BEGIN:VCALENDAR
VERSION:2.0
PRODID:http://www.kufer.de/kuferweb / DE
METHOD:PUBLISH
CALSCALE:GREGORIAN
X-WR-TIMEZONE:Europe/Berlin
BEGIN:VTIMEZONE
TZID:Europe/Berlin
X-LIC-LOCATION:Europe/Berlin
BEGIN:DAYLIGHT
TZOFFSETFROM:+0100
TZOFFSETTO:+0200
TZNAME:CEST
DTSTART;TZID=Europe/Berlin:19700329T020000
RRULE:FREQ=YEARLY;INTERVAL=1;BYDAY=-1SU;BYMONTH=3
END:DAYLIGHT
BEGIN:STANDARD
TZOFFSETFROM:+0200
TZOFFSETTO:+0100
TZNAME:CET
DTSTART;TZID=Europe/Berlin:19701025T030000
RRULE:FREQ=YEARLY;INTERVAL=1;BYDAY=-1SU;BYMONTH=10
END:STANDARD
END:VTIMEZONE
BEGIN:VEVENT
DTSTAMP:20260421T214359
DTSTART;TZID=Europe/Berlin:20260415T090000
DTEND;TZID=Europe/Berlin:20260415T130000
UID:26A9500-20260415T090000@KVHSHELMSTEDT
SUMMARY:Interkulturelles Deutschlernen im Alltag Deutsch lernen – Orientierung finden – gemeinsam ankommen (26A9500) 
LOCATION:Willkommen in Lehre e.V., Berliner Str. 56, 38165 Lehre
END:VEVENT
BEGIN:VEVENT
DTSTAMP:20260421T214359
DTSTART;TZID=Europe/Berlin:20260416T090000
DTEND;TZID=Europe/Berlin:20260416T130000
UID:26A9500-20260416T090000@KVHSHELMSTEDT
SUMMARY:Interkulturelles Deutschlernen im Alltag Deutsch lernen – Orientierung finden – gemeinsam ankommen (26A9500) 
LOCATION:Willkommen in Lehre e.V., Berliner Str. 56, 38165 Lehre
END:VEVENT
BEGIN:VEVENT
DTSTAMP:20260421T214359
DTSTART;TZID=Europe/Berlin:20260417T090000
DTEND;TZID=Europe/Berlin:20260417T130000
UID:26A9500-20260417T090000@KVHSHELMSTEDT
SUMMARY:Interkulturelles Deutschlernen im Alltag Deutsch lernen – Orientierung finden – gemeinsam ankommen (26A9500) 
LOCATION:Willkommen in Lehre e.V., Berliner Str. 56, 38165 Lehre
END:VEVENT
BEGIN:VEVENT
DTSTAMP:20260421T214359
DTSTART;TZID=Europe/Berlin:20260422T090000
DTEND;TZID=Europe/Berlin:20260422T130000
UID:26A9500-20260422T090000@KVHSHELMSTEDT
SUMMARY:Interkulturelles Deutschlernen im Alltag Deutsch lernen – Orientierung finden – gemeinsam ankommen (26A9500) 
LOCATION:Willkommen in Lehre e.V., Berliner Str. 56, 38165 Lehre
END:VEVENT
BEGIN:VEVENT
DTSTAMP:20260421T214359
DTSTART;TZID=Europe/Berlin:20260423T090000
DTEND;TZID=Europe/Berlin:20260423T130000
UID:26A9500-20260423T090000@KVHSHELMSTEDT
SUMMARY:Interkulturelles Deutschlernen im Alltag Deutsch lernen – Orientierung finden – gemeinsam ankommen (26A9500) 
LOCATION:Willkommen in Lehre e.V., Berliner Str. 56, 38165 Lehre
END:VEVENT
BEGIN:VEVENT
DTSTAMP:20260421T214359
DTSTART;TZID=Europe/Berlin:20260424T090000
DTEND;TZID=Europe/Berlin:20260424T130000
UID:26A9500-20260424T090000@KVHSHELMSTEDT
SUMMARY:Interkulturelles Deutschlernen im Alltag Deutsch lernen – Orientierung finden – gemeinsam ankommen (26A9500) 
LOCATION:Willkommen in Lehre e.V., Berliner Str. 56, 38165 Lehre
END:VEVENT
BEGIN:VEVENT
DTSTAMP:20260421T214359
DTSTART;TZID=Europe/Berlin:20260429T090000
DTEND;TZID=Europe/Berlin:20260429T130000
UID:26A9500-20260429T090000@KVHSHELMSTEDT
SUMMARY:Interkulturelles Deutschlernen im Alltag Deutsch lernen – Orientierung finden – gemeinsam ankommen (26A9500) 
LOCATION:Willkommen in Lehre e.V., Berliner Str. 56, 38165 Lehre
END:VEVENT
BEGIN:VEVENT
DTSTAMP:20260421T214359
DTSTART;TZID=Europe/Berlin:20260430T090000
DTEND;TZID=Europe/Berlin:20260430T130000
UID:26A9500-20260430T090000@KVHSHELMSTEDT
SUMMARY:Interkulturelles Deutschlernen im Alltag Deutsch lernen – Orientierung finden – gemeinsam ankommen (26A9500) 
LOCATION:Willkommen in Lehre e.V., Berliner Str. 56, 38165 Lehre
END:VEVENT
BEGIN:VEVENT
DTSTAMP:20260421T214359
DTSTART;TZID=Europe/Berlin:20260506T090000
DTEND;TZID=Europe/Berlin:20260506T130000
UID:26A9500-20260506T090000@KVHSHELMSTEDT
SUMMARY:Interkulturelles Deutschlernen im Alltag Deutsch lernen – Orientierung finden – gemeinsam ankommen (26A9500) 
LOCATION:Willkommen in Lehre e.V., Berliner Str. 56, 38165 Lehre
END:VEVENT
BEGIN:VEVENT
DTSTAMP:20260421T214359
DTSTART;TZID=Europe/Berlin:20260507T090000
DTEND;TZID=Europe/Berlin:20260507T130000
UID:26A9500-20260507T090000@KVHSHELMSTEDT
SUMMARY:Interkulturelles Deutschlernen im Alltag Deutsch lernen – Orientierung finden – gemeinsam ankommen (26A9500) 
LOCATION:Willkommen in Lehre e.V., Berliner Str. 56, 38165 Lehre
END:VEVENT
BEGIN:VEVENT
DTSTAMP:20260421T214359
DTSTART;TZID=Europe/Berlin:20260508T090000
DTEND;TZID=Europe/Berlin:20260508T130000
UID:26A9500-20260508T090000@KVHSHELMSTEDT
SUMMARY:Interkulturelles Deutschlernen im Alltag Deutsch lernen – Orientierung finden – gemeinsam ankommen (26A9500) 
LOCATION:Willkommen in Lehre e.V., Berliner Str. 56, 38165 Lehre
END:VEVENT
BEGIN:VEVENT
DTSTAMP:20260421T214359
DTSTART;TZID=Europe/Berlin:20260513T090000
DTEND;TZID=Europe/Berlin:20260513T130000
UID:26A9500-20260513T090000@KVHSHELMSTEDT
SUMMARY:Interkulturelles Deutschlernen im Alltag Deutsch lernen – Orientierung finden – gemeinsam ankommen (26A9500) 
LOCATION:Willkommen in Lehre e.V., Berliner Str. 56, 38165 Lehre
END:VEVENT
BEGIN:VEVENT
DTSTAMP:20260421T214359
DTSTART;TZID=Europe/Berlin:20260520T090000
DTEND;TZID=Europe/Berlin:20260520T130000
UID:26A9500-20260520T090000@KVHSHELMSTEDT
SUMMARY:Interkulturelles Deutschlernen im Alltag Deutsch lernen – Orientierung finden – gemeinsam ankommen (26A9500) 
LOCATION:Willkommen in Lehre e.V., Berliner Str. 56, 38165 Lehre
END:VEVENT
BEGIN:VEVENT
DTSTAMP:20260421T214359
DTSTART;TZID=Europe/Berlin:20260521T090000
DTEND;TZID=Europe/Berlin:20260521T130000
UID:26A9500-20260521T090000@KVHSHELMSTEDT
SUMMARY:Interkulturelles Deutschlernen im Alltag Deutsch lernen – Orientierung finden – gemeinsam ankommen (26A9500) 
LOCATION:Willkommen in Lehre e.V., Berliner Str. 56, 38165 Lehre
END:VEVENT
BEGIN:VEVENT
DTSTAMP:20260421T214359
DTSTART;TZID=Europe/Berlin:20260522T090000
DTEND;TZID=Europe/Berlin:20260522T130000
UID:26A9500-20260522T090000@KVHSHELMSTEDT
SUMMARY:Interkulturelles Deutschlernen im Alltag Deutsch lernen – Orientierung finden – gemeinsam ankommen (26A9500) 
LOCATION:Willkommen in Lehre e.V., Berliner Str. 56, 38165 Lehre
END:VEVENT
BEGIN:VEVENT
DTSTAMP:20260421T214359
DTSTART;TZID=Europe/Berlin:20260527T090000
DTEND;TZID=Europe/Berlin:20260527T130000
UID:26A9500-20260527T090000@KVHSHELMSTEDT
SUMMARY:Interkulturelles Deutschlernen im Alltag Deutsch lernen – Orientierung finden – gemeinsam ankommen (26A9500) 
LOCATION:Willkommen in Lehre e.V., Berliner Str. 56, 38165 Lehre
END:VEVENT
BEGIN:VEVENT
DTSTAMP:20260421T214359
DTSTART;TZID=Europe/Berlin:20260528T090000
DTEND;TZID=Europe/Berlin:20260528T130000
UID:26A9500-20260528T090000@KVHSHELMSTEDT
SUMMARY:Interkulturelles Deutschlernen im Alltag Deutsch lernen – Orientierung finden – gemeinsam ankommen (26A9500) 
LOCATION:Willkommen in Lehre e.V., Berliner Str. 56, 38165 Lehre
END:VEVENT
BEGIN:VEVENT
DTSTAMP:20260421T214359
DTSTART;TZID=Europe/Berlin:20260529T090000
DTEND;TZID=Europe/Berlin:20260529T130000
UID:26A9500-20260529T090000@KVHSHELMSTEDT
SUMMARY:Interkulturelles Deutschlernen im Alltag Deutsch lernen – Orientierung finden – gemeinsam ankommen (26A9500) 
LOCATION:Willkommen in Lehre e.V., Berliner Str. 56, 38165 Lehre
END:VEVENT
BEGIN:VEVENT
DTSTAMP:20260421T214359
DTSTART;TZID=Europe/Berlin:20260603T090000
DTEND;TZID=Europe/Berlin:20260603T130000
UID:26A9500-20260603T090000@KVHSHELMSTEDT
SUMMARY:Interkulturelles Deutschlernen im Alltag Deutsch lernen – Orientierung finden – gemeinsam ankommen (26A9500) 
LOCATION:Willkommen in Lehre e.V., Berliner Str. 56, 38165 Lehre
END:VEVENT
BEGIN:VEVENT
DTSTAMP:20260421T214359
DTSTART;TZID=Europe/Berlin:20260604T090000
DTEND;TZID=Europe/Berlin:20260604T124500
UID:26A9500-20260604T090000@KVHSHELMSTEDT
SUMMARY:Interkulturelles Deutschlernen im Alltag Deutsch lernen – Orientierung finden – gemeinsam ankommen (26A9500) 
LOCATION:Willkommen in Lehre e.V., Berliner Str. 56, 38165 Lehre
END:VEVENT
BEGIN:VEVENT
DTSTAMP:20260421T214359
DTSTART;TZID=Europe/Berlin:20260605T090000
DTEND;TZID=Europe/Berlin:20260605T130000
UID:26A9500-20260605T090000@KVHSHELMSTEDT
SUMMARY:Interkulturelles Deutschlernen im Alltag Deutsch lernen – Orientierung finden – gemeinsam ankommen (26A9500) 
LOCATION:Willkommen in Lehre e.V., Berliner Str. 56, 38165 Lehre
END:VEVENT
BEGIN:VEVENT
DTSTAMP:20260421T214359
DTSTART;TZID=Europe/Berlin:20260610T090000
DTEND;TZID=Europe/Berlin:20260610T130000
UID:26A9500-20260610T090000@KVHSHELMSTEDT
SUMMARY:Interkulturelles Deutschlernen im Alltag Deutsch lernen – Orientierung finden – gemeinsam ankommen (26A9500) 
LOCATION:Willkommen in Lehre e.V., Berliner Str. 56, 38165 Lehre
END:VEVENT
BEGIN:VEVENT
DTSTAMP:20260421T214359
DTSTART;TZID=Europe/Berlin:20260611T090000
DTEND;TZID=Europe/Berlin:20260611T130000
UID:26A9500-20260611T090000@KVHSHELMSTEDT
SUMMARY:Interkulturelles Deutschlernen im Alltag Deutsch lernen – Orientierung finden – gemeinsam ankommen (26A9500) 
LOCATION:Willkommen in Lehre e.V., Berliner Str. 56, 38165 Lehre
END:VEVENT
BEGIN:VEVENT
DTSTAMP:20260421T214359
DTSTART;TZID=Europe/Berlin:20260612T090000
DTEND;TZID=Europe/Berlin:20260612T130000
UID:26A9500-20260612T090000@KVHSHELMSTEDT
SUMMARY:Interkulturelles Deutschlernen im Alltag Deutsch lernen – Orientierung finden – gemeinsam ankommen (26A9500) 
LOCATION:Willkommen in Lehre e.V., Berliner Str. 56, 38165 Lehre
END:VEVENT
BEGIN:VEVENT
DTSTAMP:20260421T214359
DTSTART;TZID=Europe/Berlin:20260617T090000
DTEND;TZID=Europe/Berlin:20260617T130000
UID:26A9500-20260617T090000@KVHSHELMSTEDT
SUMMARY:Interkulturelles Deutschlernen im Alltag Deutsch lernen – Orientierung finden – gemeinsam ankommen (26A9500) 
LOCATION:Willkommen in Lehre e.V., Berliner Str. 56, 38165 Lehre
END:VEVENT
BEGIN:VEVENT
DTSTAMP:20260421T214359
DTSTART;TZID=Europe/Berlin:20260618T090000
DTEND;TZID=Europe/Berlin:20260618T130000
UID:26A9500-20260618T090000@KVHSHELMSTEDT
SUMMARY:Interkulturelles Deutschlernen im Alltag Deutsch lernen – Orientierung finden – gemeinsam ankommen (26A9500) 
LOCATION:Willkommen in Lehre e.V., Berliner Str. 56, 38165 Lehre
END:VEVENT
BEGIN:VEVENT
DTSTAMP:20260421T214359
DTSTART;TZID=Europe/Berlin:20260619T090000
DTEND;TZID=Europe/Berlin:20260619T130000
UID:26A9500-20260619T090000@KVHSHELMSTEDT
SUMMARY:Interkulturelles Deutschlernen im Alltag Deutsch lernen – Orientierung finden – gemeinsam ankommen (26A9500) 
LOCATION:Willkommen in Lehre e.V., Berliner Str. 56, 38165 Lehre
END:VEVENT
BEGIN:VEVENT
DTSTAMP:20260421T214359
DTSTART;TZID=Europe/Berlin:20260624T090000
DTEND;TZID=Europe/Berlin:20260624T130000
UID:26A9500-20260624T090000@KVHSHELMSTEDT
SUMMARY:Interkulturelles Deutschlernen im Alltag Deutsch lernen – Orientierung finden – gemeinsam ankommen (26A9500) 
LOCATION:Willkommen in Lehre e.V., Berliner Str. 56, 38165 Lehre
END:VEVENT
BEGIN:VEVENT
DTSTAMP:20260421T214359
DTSTART;TZID=Europe/Berlin:20260625T090000
DTEND;TZID=Europe/Berlin:20260625T130000
UID:26A9500-20260625T090000@KVHSHELMSTEDT
SUMMARY:Interkulturelles Deutschlernen im Alltag Deutsch lernen – Orientierung finden – gemeinsam ankommen (26A9500) 
LOCATION:Willkommen in Lehre e.V., Berliner Str. 56, 38165 Lehre
END:VEVENT
BEGIN:VEVENT
DTSTAMP:20260421T214359
DTSTART;TZID=Europe/Berlin:20260626T090000
DTEND;TZID=Europe/Berlin:20260626T130000
UID:26A9500-20260626T090000@KVHSHELMSTEDT
SUMMARY:Interkulturelles Deutschlernen im Alltag Deutsch lernen – Orientierung finden – gemeinsam ankommen (26A9500) 
LOCATION:Willkommen in Lehre e.V., Berliner Str. 56, 38165 Lehre
END:VEVENT
BEGIN:VEVENT
DTSTAMP:20260421T214359
DTSTART;TZID=Europe/Berlin:20260701T090000
DTEND;TZID=Europe/Berlin:20260701T130000
UID:26A9500-20260701T090000@KVHSHELMSTEDT
SUMMARY:Interkulturelles Deutschlernen im Alltag Deutsch lernen – Orientierung finden – gemeinsam ankommen (26A9500) 
LOCATION:Willkommen in Lehre e.V., Berliner Str. 56, 38165 Lehre
END:VEVENT
END:VCALENDAR