BEGIN:VCALENDAR
VERSION:2.0
PRODID:http://www.kufer.de/kuferweb / DE
METHOD:PUBLISH
CALSCALE:GREGORIAN
X-WR-TIMEZONE:Europe/Berlin
BEGIN:VTIMEZONE
TZID:Europe/Berlin
X-LIC-LOCATION:Europe/Berlin
BEGIN:DAYLIGHT
TZOFFSETFROM:+0100
TZOFFSETTO:+0200
TZNAME:CEST
DTSTART;TZID=Europe/Berlin:19700329T020000
RRULE:FREQ=YEARLY;INTERVAL=1;BYDAY=-1SU;BYMONTH=3
END:DAYLIGHT
BEGIN:STANDARD
TZOFFSETFROM:+0200
TZOFFSETTO:+0100
TZNAME:CET
DTSTART;TZID=Europe/Berlin:19701025T030000
RRULE:FREQ=YEARLY;INTERVAL=1;BYDAY=-1SU;BYMONTH=10
END:STANDARD
END:VTIMEZONE
BEGIN:VEVENT
DTSTAMP:20260421T214548
DTSTART;TZID=Europe/Berlin:20261130T080000
DTEND;TZID=Europe/Berlin:20261130T153000
UID:26A3428-20261130T080000@KVHSHELMSTEDT
SUMMARY:Excel 2021 für Einsteiger - Xpertkurs 5-Tageskurs / Bildungsurlaub (26A3428) 
LOCATION:KVHS, Juleumshof, PC-Raum 108, Bötticherstraße 2, 38350 Helmstedt
END:VEVENT
BEGIN:VEVENT
DTSTAMP:20260421T214548
DTSTART;TZID=Europe/Berlin:20261201T080000
DTEND;TZID=Europe/Berlin:20261201T153000
UID:26A3428-20261201T080000@KVHSHELMSTEDT
SUMMARY:Excel 2021 für Einsteiger - Xpertkurs 5-Tageskurs / Bildungsurlaub (26A3428) 
LOCATION:KVHS, Juleumshof, PC-Raum 108, Bötticherstraße 2, 38350 Helmstedt
END:VEVENT
BEGIN:VEVENT
DTSTAMP:20260421T214548
DTSTART;TZID=Europe/Berlin:20261202T080000
DTEND;TZID=Europe/Berlin:20261202T153000
UID:26A3428-20261202T080000@KVHSHELMSTEDT
SUMMARY:Excel 2021 für Einsteiger - Xpertkurs 5-Tageskurs / Bildungsurlaub (26A3428) 
LOCATION:KVHS, Juleumshof, PC-Raum 108, Bötticherstraße 2, 38350 Helmstedt
END:VEVENT
BEGIN:VEVENT
DTSTAMP:20260421T214548
DTSTART;TZID=Europe/Berlin:20261203T080000
DTEND;TZID=Europe/Berlin:20261203T153000
UID:26A3428-20261203T080000@KVHSHELMSTEDT
SUMMARY:Excel 2021 für Einsteiger - Xpertkurs 5-Tageskurs / Bildungsurlaub (26A3428) 
LOCATION:KVHS, Juleumshof, PC-Raum 108, Bötticherstraße 2, 38350 Helmstedt
END:VEVENT
BEGIN:VEVENT
DTSTAMP:20260421T214548
DTSTART;TZID=Europe/Berlin:20261204T080000
DTEND;TZID=Europe/Berlin:20261204T153000
UID:26A3428-20261204T080000@KVHSHELMSTEDT
SUMMARY:Excel 2021 für Einsteiger - Xpertkurs 5-Tageskurs / Bildungsurlaub (26A3428) 
LOCATION:KVHS, Juleumshof, PC-Raum 108, Bötticherstraße 2, 38350 Helmstedt
END:VEVENT
END:VCALENDAR